BEGIN:VCALENDAR
VERSION:2.0
PRODID:-//Wisconsin Technical College System - ECPv6.15.20//NONSGML v1.0//EN
CALSCALE:GREGORIAN
METHOD:PUBLISH
X-ORIGINAL-URL:https://mywtcs.wtcsystem.edu
X-WR-CALDESC:Events for Wisconsin Technical College System
REFRESH-INTERVAL;VALUE=DURATION:PT1H
X-Robots-Tag:noindex
X-PUBLISHED-TTL:PT1H
BEGIN:VTIMEZONE
TZID:America/Chicago
BEGIN:DAYLIGHT
TZOFFSETFROM:-0600
TZOFFSETTO:-0500
TZNAME:CDT
DTSTART:20200308T080000
END:DAYLIGHT
BEGIN:STANDARD
TZOFFSETFROM:-0500
TZOFFSETTO:-0600
TZNAME:CST
DTSTART:20201101T070000
END:STANDARD
BEGIN:DAYLIGHT
TZOFFSETFROM:-0600
TZOFFSETTO:-0500
TZNAME:CDT
DTSTART:20210314T080000
END:DAYLIGHT
BEGIN:STANDARD
TZOFFSETFROM:-0500
TZOFFSETTO:-0600
TZNAME:CST
DTSTART:20211107T070000
END:STANDARD
BEGIN:DAYLIGHT
TZOFFSETFROM:-0600
TZOFFSETTO:-0500
TZNAME:CDT
DTSTART:20220313T080000
END:DAYLIGHT
BEGIN:STANDARD
TZOFFSETFROM:-0500
TZOFFSETTO:-0600
TZNAME:CST
DTSTART:20221106T070000
END:STANDARD
END:VTIMEZONE
BEGIN:VEVENT
DTSTART;TZID=America/Chicago:20210915T083000
DTEND;TZID=America/Chicago:20210915T120000
DTSTAMP:20260425T120000
CREATED:20210121T163621Z
LAST-MODIFIED:20210121T163621Z
UID:10000178-1631694600-1631707200@mywtcs.wtcsystem.edu
SUMMARY:WTCS Board Meeting
DESCRIPTION:WTCS Board Meeting at Madison College\nSeptember 14-15\, 2021
URL:https://mywtcs.wtcsystem.edu/event/wtcs-board-meeting-4/2021-09-15/
LOCATION:Madison Area Technical College\, 1701 Wright Street\, Madison\, WI\, 53704\, United States
ORGANIZER;CN="Julie Drake":MAILTO:julie.drake@wtcsystem.edu
END:VEVENT
BEGIN:VEVENT
DTSTART;TZID=America/Chicago:20210914T163000
DTEND;TZID=America/Chicago:20210914T180000
DTSTAMP:20260425T120000
CREATED:20210121T163621Z
LAST-MODIFIED:20210121T163621Z
UID:10000177-1631637000-1631642400@mywtcs.wtcsystem.edu
SUMMARY:WTCS Board Meeting
DESCRIPTION:WTCS Board Meeting at Madison College\nSeptember 14-15\, 2021
URL:https://mywtcs.wtcsystem.edu/event/wtcs-board-meeting-4/2021-09-14/
LOCATION:Madison Area Technical College\, 1701 Wright Street\, Madison\, WI\, 53704\, United States
ORGANIZER;CN="Julie Drake":MAILTO:julie.drake@wtcsystem.edu
END:VEVENT
END:VCALENDAR